BEGIN:VCALENDAR
VERSION:2.0
PRODID:-//Ashland Mental Health and Recovery Board - ECPv6.6.4.2//NONSGML v1.0//EN
CALSCALE:GREGORIAN
METHOD:PUBLISH
X-WR-CALNAME:Ashland Mental Health and Recovery Board
X-ORIGINAL-URL:https://www.ashlandmhrb.org
X-WR-CALDESC:Events for Ashland Mental Health and Recovery Board
REFRESH-INTERVAL;VALUE=DURATION:PT1H
X-Robots-Tag:noindex
X-PUBLISHED-TTL:PT1H
BEGIN:VTIMEZONE
TZID:America/New_York
BEGIN:DAYLIGHT
TZOFFSETFROM:-0500
TZOFFSETTO:-0400
TZNAME:EDT
DTSTART:20240310T070000
END:DAYLIGHT
BEGIN:STANDARD
TZOFFSETFROM:-0400
TZOFFSETTO:-0500
TZNAME:EST
DTSTART:20241103T060000
END:STANDARD
END:VTIMEZONE
BEGIN:VEVENT
DTSTART;TZID=America/New_York:20240515T080000
DTEND;TZID=America/New_York:20240630T170000
DTSTAMP:20260425T080732
CREATED:20240515T153744Z
LAST-MODIFIED:20240517T132448Z
UID:10000569-1715760000-1719766800@www.ashlandmhrb.org
SUMMARY:2024 Elder Empowerment Month Calendar
DESCRIPTION:Click here for Links in Elder Empowerment Month \n  \n  \n2024 Elder Empowerment Month Calendar with links
URL:https://www.ashlandmhrb.org/event/2024-elder-empowerment-month-calendar/
END:VEVENT
BEGIN:VEVENT
DTSTART;TZID=America/New_York:20240625T160000
DTEND;TZID=America/New_York:20240625T170000
DTSTAMP:20260425T080732
CREATED:20250102T142019Z
LAST-MODIFIED:20250709T144903Z
UID:10000567-1719331200-1719334800@www.ashlandmhrb.org
SUMMARY:Board Meeting
DESCRIPTION:4 pm    To join meeting via Zoom:  https://us02web.zoom.us/j/84083873872 \n  \n  \n 
URL:https://www.ashlandmhrb.org/event/board-meeting-13/2024-06-25/
LOCATION:Mental Health & Recovery Board\, 1605 County Road 1095\, Ashland\, OH\, 44805\, United States
END:VEVENT
END:VCALENDAR