BEGIN:VCALENDAR
VERSION:2.0
PRODID:-//Ashland Mental Health and Recovery Board - ECPv6.6.4.2//NONSGML v1.0//EN
CALSCALE:GREGORIAN
METHOD:PUBLISH
X-WR-CALNAME:Ashland Mental Health and Recovery Board
X-ORIGINAL-URL:https://www.ashlandmhrb.org
X-WR-CALDESC:Events for Ashland Mental Health and Recovery Board
REFRESH-INTERVAL;VALUE=DURATION:PT1H
X-Robots-Tag:noindex
X-PUBLISHED-TTL:PT1H
BEGIN:VTIMEZONE
TZID:America/New_York
BEGIN:DAYLIGHT
TZOFFSETFROM:-0500
TZOFFSETTO:-0400
TZNAME:EDT
DTSTART:20240310T070000
END:DAYLIGHT
BEGIN:STANDARD
TZOFFSETFROM:-0400
TZOFFSETTO:-0500
TZNAME:EST
DTSTART:20241103T060000
END:STANDARD
END:VTIMEZONE
BEGIN:VEVENT
DTSTART;TZID=America/New_York:20241101T080000
DTEND;TZID=America/New_York:20241130T170000
DTSTAMP:20260424T213830
CREATED:20241028T122814Z
LAST-MODIFIED:20241028T123226Z
UID:10000578-1730448000-1732986000@www.ashlandmhrb.org
SUMMARY:Pathways Peer Support Calendar
DESCRIPTION:November 2024 Pathways calendar \nWe are open our regular hours:  Monday\, Tuesday and Thursday from 10:00-3:00 with all regular programming.  In addition\, we have some Zoom sessions (all day Tuesday) as well\, as noted on the calendar with an *asterisk. \nPLEASE NOTE: Pathways will be hosting our annual family-style Thanksgiving Dinner on Monday\, November 25\, 4:00-6:00.  We ask that folks let us know if they plan to attend so we can have plenty of food. \nAlso note we have many interactive activities each month\, including Fellowship Friday (we teach folks how to make a favorite comfort food and then play cards and games)\, Healthy Cooking (how to make healthier food and food substitutes)\, etc.   All groups are interactive and allow for questions\, sharing\, and creating. \nPLEASE NOTE:  We now are offering one day of Pathways each month in Loudonville at the Rectory at St. Peter’s Church.    It typically is the second Friday of each month.  In November\, it will be Friday\, November 8\, 10:00-3:00. \nWe try to adhere to the posted schedule\, but things come up.  Please have anyone interested in an activity call to confirm before making transportation arrangements. \nThank you for your support and referrals.  Let me know if you would like to have me come to speak to your staff about Pathways and our programming.  Thanks again. \n  \n  \n  \n  \n  \n  \nDeborah A. Brookshire\, MA\, LSW\, LPCC-S\, CTP            CliftonStrengths:  LEARNER | CONNECTEDNESS | ACHIEVER | BELIEF | INTELLECTION \nProgram Administrator\, Pathways \nCatholic Charities \nAshland County                                                               Wayne County \n34 W. Second St.                                                             521 Beall Ave. \nAshland\, OH  44805                                                        Wooster\, OH  44691 \nPhone:  (419) 289-1903\, ext. 24                                   Phone:  (330) 262-7836 \nFAX:  (419) 281-8342                                                      FAX:  (330) 262-2867
URL:https://www.ashlandmhrb.org/event/pathways-peer-support-calendar/
END:VEVENT
END:VCALENDAR