BEGIN:VCALENDAR
VERSION:2.0
PRODID:-//Ashland Mental Health and Recovery Board - ECPv6.6.4.2//NONSGML v1.0//EN
CALSCALE:GREGORIAN
METHOD:PUBLISH
X-ORIGINAL-URL:https://www.ashlandmhrb.org
X-WR-CALDESC:Events for Ashland Mental Health and Recovery Board
REFRESH-INTERVAL;VALUE=DURATION:PT1H
X-Robots-Tag:noindex
X-PUBLISHED-TTL:PT1H
BEGIN:VTIMEZONE
TZID:America/New_York
BEGIN:DAYLIGHT
TZOFFSETFROM:-0500
TZOFFSETTO:-0400
TZNAME:EDT
DTSTART:20250309T070000
END:DAYLIGHT
BEGIN:STANDARD
TZOFFSETFROM:-0400
TZOFFSETTO:-0500
TZNAME:EST
DTSTART:20251102T060000
END:STANDARD
END:VTIMEZONE
BEGIN:VEVENT
DTSTART;TZID=America/New_York:20250317T173000
DTEND;TZID=America/New_York:20250317T183000
DTSTAMP:20260424T153803
CREATED:20250212T142521Z
LAST-MODIFIED:20250212T142536Z
UID:10000651-1742232600-1742236200@www.ashlandmhrb.org
SUMMARY:Ashland Library Community Book Discussion
DESCRIPTION:
URL:https://www.ashlandmhrb.org/event/ashland-library-community-book-discussion/
END:VEVENT
END:VCALENDAR