BEGIN:VCALENDAR
VERSION:2.0
PRODID:-//Ashland Mental Health and Recovery Board - ECPv6.6.4.2//NONSGML v1.0//EN
CALSCALE:GREGORIAN
METHOD:PUBLISH
X-WR-CALNAME:Ashland Mental Health and Recovery Board
X-ORIGINAL-URL:https://www.ashlandmhrb.org
X-WR-CALDESC:Events for Ashland Mental Health and Recovery Board
REFRESH-INTERVAL;VALUE=DURATION:PT1H
X-Robots-Tag:noindex
X-PUBLISHED-TTL:PT1H
BEGIN:VTIMEZONE
TZID:America/New_York
BEGIN:DAYLIGHT
TZOFFSETFROM:-0500
TZOFFSETTO:-0400
TZNAME:EDT
DTSTART:20250309T070000
END:DAYLIGHT
BEGIN:STANDARD
TZOFFSETFROM:-0400
TZOFFSETTO:-0500
TZNAME:EST
DTSTART:20251102T060000
END:STANDARD
END:VTIMEZONE
BEGIN:VEVENT
DTSTART;TZID=America/New_York:20250418T080000
DTEND;TZID=America/New_York:20250418T170000
DTSTAMP:20260424T140859
CREATED:20250418T123016Z
LAST-MODIFIED:20250421T134344Z
UID:10000657-1744963200-1744995600@www.ashlandmhrb.org
SUMMARY:RSVP Planning Committee
DESCRIPTION:10:00 a.m. via Zoom \nMHRB of Ashland County is inviting you to a scheduled Zoom meeting. \nTopic: RSVP Planning Committee Meeting\nTime: Apr 24\, 2025 10:00 AM Eastern Time (US and Canada)\nJoin Zoom Meeting\nhttps://us02web.zoom.us/j/84784330442 \nMeeting ID: 847 8433 0442 \n— \n  \n 
URL:https://www.ashlandmhrb.org/event/rsvp-planning-committee/
END:VEVENT
END:VCALENDAR