BEGIN:VCALENDAR
VERSION:2.0
PRODID:-//Ashland Mental Health and Recovery Board - ECPv6.6.4.2//NONSGML v1.0//EN
CALSCALE:GREGORIAN
METHOD:PUBLISH
X-ORIGINAL-URL:https://www.ashlandmhrb.org
X-WR-CALDESC:Events for Ashland Mental Health and Recovery Board
REFRESH-INTERVAL;VALUE=DURATION:PT1H
X-Robots-Tag:noindex
X-PUBLISHED-TTL:PT1H
BEGIN:VTIMEZONE
TZID:America/New_York
BEGIN:DAYLIGHT
TZOFFSETFROM:-0500
TZOFFSETTO:-0400
TZNAME:EDT
DTSTART:20250309T070000
END:DAYLIGHT
BEGIN:STANDARD
TZOFFSETFROM:-0400
TZOFFSETTO:-0500
TZNAME:EST
DTSTART:20251102T060000
END:STANDARD
END:VTIMEZONE
BEGIN:VEVENT
DTSTART;TZID=America/New_York:20250425T120000
DTEND;TZID=America/New_York:20250425T130000
DTSTAMP:20260424T140950
CREATED:20250418T122643Z
LAST-MODIFIED:20250418T123317Z
UID:10000656-1745582400-1745586000@www.ashlandmhrb.org
SUMMARY:Suicide Prevention Coalition
DESCRIPTION:12:00 pm at the Board Office\, 1605 County Road 1095\, Ashland or via Zoom \nJoin Zoom Meeting\nhttps://us02web.zoom.us/j/89641751916 \nMeeting ID: 896 4175 1916 \n— \nOne tap mobile\n+13017158592\,\,89641751916# US (Washington DC)\n+13052241968\,\,89641751916# US \n— \n  \n 
URL:https://www.ashlandmhrb.org/event/suicide-prevention-coalition/
END:VEVENT
END:VCALENDAR