BEGIN:VCALENDAR
VERSION:2.0
PRODID:-//Ashland Mental Health and Recovery Board - ECPv6.6.4.2//NONSGML v1.0//EN
CALSCALE:GREGORIAN
METHOD:PUBLISH
X-WR-CALNAME:Ashland Mental Health and Recovery Board
X-ORIGINAL-URL:https://www.ashlandmhrb.org
X-WR-CALDESC:Events for Ashland Mental Health and Recovery Board
REFRESH-INTERVAL;VALUE=DURATION:PT1H
X-Robots-Tag:noindex
X-PUBLISHED-TTL:PT1H
BEGIN:VTIMEZONE
TZID:America/New_York
BEGIN:DAYLIGHT
TZOFFSETFROM:-0500
TZOFFSETTO:-0400
TZNAME:EDT
DTSTART:20250309T070000
END:DAYLIGHT
BEGIN:STANDARD
TZOFFSETFROM:-0400
TZOFFSETTO:-0500
TZNAME:EST
DTSTART:20251102T060000
END:STANDARD
END:VTIMEZONE
BEGIN:VEVENT
DTSTART;TZID=America/New_York:20250812T160000
DTEND;TZID=America/New_York:20250812T170000
DTSTAMP:20260424T075622
CREATED:20250812T141039Z
LAST-MODIFIED:20251119T150812Z
UID:10000713-1755014400-1755018000@www.ashlandmhrb.org
SUMMARY:Levy Committee Meeting
DESCRIPTION:Levy Committee Meeting \n1605 County Road 1095\, Ashland  or Via Zoom \nZoom Link: \nhttps://us02web.zoom.us/j/85139520601 \n851 3952 0601 \n 
URL:https://www.ashlandmhrb.org/event/4398/
END:VEVENT
END:VCALENDAR