BEGIN:VCALENDAR
VERSION:2.0
PRODID:-//Ashland Mental Health and Recovery Board - ECPv6.6.4.2//NONSGML v1.0//EN
CALSCALE:GREGORIAN
METHOD:PUBLISH
X-WR-CALNAME:Ashland Mental Health and Recovery Board
X-ORIGINAL-URL:https://www.ashlandmhrb.org
X-WR-CALDESC:Events for Ashland Mental Health and Recovery Board
REFRESH-INTERVAL;VALUE=DURATION:PT1H
X-Robots-Tag:noindex
X-PUBLISHED-TTL:PT1H
BEGIN:VTIMEZONE
TZID:America/New_York
BEGIN:DAYLIGHT
TZOFFSETFROM:-0500
TZOFFSETTO:-0400
TZNAME:EDT
DTSTART:20240310T070000
END:DAYLIGHT
BEGIN:STANDARD
TZOFFSETFROM:-0400
TZOFFSETTO:-0500
TZNAME:EST
DTSTART:20241103T060000
END:STANDARD
END:VTIMEZONE
BEGIN:VEVENT
DTSTART;TZID=America/New_York:20240523T090000
DTEND;TZID=America/New_York:20240523T120000
DTSTAMP:20260424T100828
CREATED:20240515T124109Z
LAST-MODIFIED:20240515T133525Z
UID:10000563-1716454800-1716465600@www.ashlandmhrb.org
SUMMARY:Senior Health Fair
DESCRIPTION:at AU Convocation Center
URL:https://www.ashlandmhrb.org/event/3587/
LOCATION:OH
END:VEVENT
BEGIN:VEVENT
DTSTART;TZID=America/New_York:20240521T160000
DTEND;TZID=America/New_York:20240521T190000
DTSTAMP:20260424T100828
CREATED:20231130T173350Z
LAST-MODIFIED:20240515T145132Z
UID:10000546-1716307200-1716318000@www.ashlandmhrb.org
SUMMARY:Board Meeting-Agency Applications
DESCRIPTION:4 p.m.  To join meeting via Zoom:  https://us02web.zoom.us/j/83452033286 \n  \n  \n  \n 
URL:https://www.ashlandmhrb.org/event/board-meeting-combined-planning-and-finance-meeting/
LOCATION:Mental Health & Recovery Board\, 1605 County Road 1095\, Ashland\, OH\, 44805\, United States
CATEGORIES:Board Meetings
END:VEVENT
BEGIN:VEVENT
DTSTART;TZID=America/New_York:20240518T100000
DTEND;TZID=America/New_York:20240518T130000
DTSTAMP:20260424T100828
CREATED:20240515T130919Z
LAST-MODIFIED:20240515T133630Z
UID:10000565-1716026400-1716037200@www.ashlandmhrb.org
SUMMARY:33 Forever Mental Health Awareness Walk
DESCRIPTION:at the Richland Carrousel Park
URL:https://www.ashlandmhrb.org/event/3593/
LOCATION:OH
END:VEVENT
BEGIN:VEVENT
DTSTART;TZID=America/New_York:20240515T080000
DTEND;TZID=America/New_York:20240630T170000
DTSTAMP:20260424T100828
CREATED:20240515T153744Z
LAST-MODIFIED:20240517T132448Z
UID:10000569-1715760000-1719766800@www.ashlandmhrb.org
SUMMARY:2024 Elder Empowerment Month Calendar
DESCRIPTION:Click here for Links in Elder Empowerment Month \n  \n  \n2024 Elder Empowerment Month Calendar with links
URL:https://www.ashlandmhrb.org/event/2024-elder-empowerment-month-calendar/
LOCATION:OH
END:VEVENT
BEGIN:VEVENT
DTSTART;TZID=America/New_York:20240501T080000
DTEND;TZID=America/New_York:20240531T170000
DTSTAMP:20260424T100828
CREATED:20240515T150305Z
LAST-MODIFIED:20240515T151149Z
UID:10000568-1714550400-1717174800@www.ashlandmhrb.org
SUMMARY:Pathways Peer Support Calendar
DESCRIPTION:
URL:https://www.ashlandmhrb.org/event/pathway-peer-support-calendar/
LOCATION:OH
END:VEVENT
END:VCALENDAR