BEGIN:VCALENDAR
VERSION:2.0
PRODID:-//Ashland Mental Health and Recovery Board - ECPv6.6.4.2//NONSGML v1.0//EN
CALSCALE:GREGORIAN
METHOD:PUBLISH
X-ORIGINAL-URL:https://www.ashlandmhrb.org
X-WR-CALDESC:Events for Ashland Mental Health and Recovery Board
REFRESH-INTERVAL;VALUE=DURATION:PT1H
X-Robots-Tag:noindex
X-PUBLISHED-TTL:PT1H
BEGIN:VTIMEZONE
TZID:America/New_York
BEGIN:DAYLIGHT
TZOFFSETFROM:-0500
TZOFFSETTO:-0400
TZNAME:EDT
DTSTART:20240310T070000
END:DAYLIGHT
BEGIN:STANDARD
TZOFFSETFROM:-0400
TZOFFSETTO:-0500
TZNAME:EST
DTSTART:20241103T060000
END:STANDARD
END:VTIMEZONE
BEGIN:VEVENT
DTSTART;TZID=America/New_York:20240915T080000
DTEND;TZID=America/New_York:20240921T170000
DTSTAMP:20260424T231351
CREATED:20240517T174023Z
LAST-MODIFIED:20240517T174023Z
UID:10000573-1726387200-1726938000@www.ashlandmhrb.org
SUMMARY:Ashland County Fair
DESCRIPTION:
URL:https://www.ashlandmhrb.org/event/ashland-county-fair/
LOCATION:Ashland County Fairgrounds
END:VEVENT
BEGIN:VEVENT
DTSTART;TZID=America/New_York:20240918T183000
DTEND;TZID=America/New_York:20240918T193000
DTSTAMP:20260424T231351
CREATED:20240828T141530Z
LAST-MODIFIED:20240828T141530Z
UID:10000577-1726684200-1726687800@www.ashlandmhrb.org
SUMMARY:Resilience Film at Ohio Theatre in Loudonville
DESCRIPTION:Loudonville RB and MH Resilience Flyer.pdf
URL:https://www.ashlandmhrb.org/event/resilience-film-at-ohio-theatre-in-loudonville/
END:VEVENT
BEGIN:VEVENT
DTSTART;TZID=America/New_York:20240924T160000
DTEND;TZID=America/New_York:20240924T170000
DTSTAMP:20260424T231351
CREATED:20250102T142019Z
LAST-MODIFIED:20250709T144903Z
UID:10000581-1727193600-1727197200@www.ashlandmhrb.org
SUMMARY:Board Meeting
DESCRIPTION:4 pm    To join meeting via Zoom:  https://us02web.zoom.us/j/84083873872 \n  \n  \n 
URL:https://www.ashlandmhrb.org/event/board-meeting-13/2024-09-24/
LOCATION:Mental Health & Recovery Board\, 1605 County Road 1095\, Ashland\, OH\, 44805\, United States
END:VEVENT
BEGIN:VEVENT
DTSTART;TZID=America/New_York:20240929T140000
DTEND;TZID=America/New_York:20240929T160000
DTSTAMP:20260424T231351
CREATED:20240517T173030Z
LAST-MODIFIED:20240807T154804Z
UID:10000571-1727618400-1727625600@www.ashlandmhrb.org
SUMMARY:Suicide Prevention Awareness Walk
DESCRIPTION:Register now:  https://www.eventbrite.com/e/8th-annual-suicide-prevention-awareness-walk-tickets-953390896837   or use code below \n  \n  \n 
URL:https://www.ashlandmhrb.org/event/suicide-prevention-awareness-walk/
END:VEVENT
END:VCALENDAR