BEGIN:VCALENDAR
VERSION:2.0
PRODID:-//Ashland Mental Health and Recovery Board - ECPv6.6.4.2//NONSGML v1.0//EN
CALSCALE:GREGORIAN
METHOD:PUBLISH
X-ORIGINAL-URL:https://www.ashlandmhrb.org
X-WR-CALDESC:Events for Ashland Mental Health and Recovery Board
REFRESH-INTERVAL;VALUE=DURATION:PT1H
X-Robots-Tag:noindex
X-PUBLISHED-TTL:PT1H
BEGIN:VTIMEZONE
TZID:America/New_York
BEGIN:DAYLIGHT
TZOFFSETFROM:-0500
TZOFFSETTO:-0400
TZNAME:EDT
DTSTART:20250309T070000
END:DAYLIGHT
BEGIN:STANDARD
TZOFFSETFROM:-0400
TZOFFSETTO:-0500
TZNAME:EST
DTSTART:20251102T060000
END:STANDARD
END:VTIMEZONE
BEGIN:VEVENT
DTSTART;TZID=America/New_York:20250506T160000
DTEND;TZID=America/New_York:20250506T170000
DTSTAMP:20260424T110802
CREATED:20250418T122201Z
LAST-MODIFIED:20250507T151824Z
UID:10000655-1746547200-1746550800@www.ashlandmhrb.org
SUMMARY:Levy Committee Meeting
DESCRIPTION:4:00 p.m. at the Board Office\, 1605 County Road 1095\, Ashland \n  \nJoin Via Zoom \nhttps://us02web.zoom.us/j/88542950555 \n\n\n\nMeeting ID  885 4295 0555\n\n\n\n\n\n\n\n\n\n\n\n\n 
URL:https://www.ashlandmhrb.org/event/levy-committee-meeting-3/
END:VEVENT
BEGIN:VEVENT
DTSTART;TZID=America/New_York:20250513T090000
DTEND;TZID=America/New_York:20250513T100000
DTSTAMP:20260424T110802
CREATED:20250507T151206Z
LAST-MODIFIED:20250507T151213Z
UID:10000662-1747126800-1747130400@www.ashlandmhrb.org
SUMMARY:Executive Committee Meeting
DESCRIPTION:Topic: Executive Committee Meeting\nTime: May 13\, 2025 09:00 AM Eastern Time (US and Canada)\nJoin Zoom Meeting\nhttps://us02web.zoom.us/j/81828427668 \nMeeting ID: 818 2842 7668 \n  \n 
URL:https://www.ashlandmhrb.org/event/executive-committee-meeting/
END:VEVENT
BEGIN:VEVENT
DTSTART;TZID=America/New_York:20250514T090000
DTEND;TZID=America/New_York:20250514T120000
DTSTAMP:20260424T110802
CREATED:20250418T171652Z
LAST-MODIFIED:20250418T171656Z
UID:10000659-1747213200-1747224000@www.ashlandmhrb.org
SUMMARY:Senior Health Fair
DESCRIPTION:At AU\, hosted by the Council on Aging
URL:https://www.ashlandmhrb.org/event/senior-health-fair/
END:VEVENT
BEGIN:VEVENT
DTSTART;TZID=America/New_York:20250517T090000
DTEND;TZID=America/New_York:20250517T120000
DTSTAMP:20260424T110802
CREATED:20250418T171753Z
LAST-MODIFIED:20250418T172210Z
UID:10000660-1747472400-1747483200@www.ashlandmhrb.org
SUMMARY:Forever 33 Birthday Walk
DESCRIPTION:At the Richland Carousel \n33Forever Birthday Walk 25 \n 
URL:https://www.ashlandmhrb.org/event/forever-33-birthday-walk/
END:VEVENT
BEGIN:VEVENT
DTSTART;TZID=America/New_York:20250520T160000
DTEND;TZID=America/New_York:20250520T180000
DTSTAMP:20260424T110802
CREATED:20250507T151639Z
LAST-MODIFIED:20250507T151639Z
UID:10000663-1747756800-1747764000@www.ashlandmhrb.org
SUMMARY:Board Meeting
DESCRIPTION:MHRB of Ashland County is inviting you to a scheduled Zoom meeting. \nTopic: Board Meeting\nTime: May 20\, 2025 04:00 PM Eastern Time (US and Canada)\nJoin Zoom Meeting\nhttps://us02web.zoom.us/j/88402019452 \nMeeting ID: 884 0201 9452 \n 
URL:https://www.ashlandmhrb.org/event/board-meeting-14/
END:VEVENT
BEGIN:VEVENT
DTSTART;TZID=America/New_York:20250527T160000
DTEND;TZID=America/New_York:20250527T170000
DTSTAMP:20260424T110802
CREATED:20250102T142019Z
LAST-MODIFIED:20250709T144903Z
UID:10000589-1748361600-1748365200@www.ashlandmhrb.org
SUMMARY:Board Meeting
DESCRIPTION:4 pm    To join meeting via Zoom:  https://us02web.zoom.us/j/84083873872 \n  \n  \n 
URL:https://www.ashlandmhrb.org/event/board-meeting-13/2025-05-27/
LOCATION:Mental Health & Recovery Board\, 1605 County Road 1095\, Ashland\, OH\, 44805\, United States
END:VEVENT
END:VCALENDAR