BEGIN:VCALENDAR
VERSION:2.0
PRODID:-//Ashland Mental Health and Recovery Board - ECPv6.6.4.2//NONSGML v1.0//EN
CALSCALE:GREGORIAN
METHOD:PUBLISH
X-WR-CALNAME:Ashland Mental Health and Recovery Board
X-ORIGINAL-URL:https://www.ashlandmhrb.org
X-WR-CALDESC:Events for Ashland Mental Health and Recovery Board
REFRESH-INTERVAL;VALUE=DURATION:PT1H
X-Robots-Tag:noindex
X-PUBLISHED-TTL:PT1H
BEGIN:VTIMEZONE
TZID:America/New_York
BEGIN:DAYLIGHT
TZOFFSETFROM:-0500
TZOFFSETTO:-0400
TZNAME:EDT
DTSTART:20250309T070000
END:DAYLIGHT
BEGIN:STANDARD
TZOFFSETFROM:-0400
TZOFFSETTO:-0500
TZNAME:EST
DTSTART:20251102T060000
END:STANDARD
END:VTIMEZONE
BEGIN:VEVENT
DTSTART;TZID=America/New_York:20250601T080000
DTEND;TZID=America/New_York:20250601T190000
DTSTAMP:20260424T110753
CREATED:20250506T124813Z
LAST-MODIFIED:20250506T124813Z
UID:10000661-1748764800-1748804400@www.ashlandmhrb.org
SUMMARY:Elder Empowerment Month Calendar
DESCRIPTION:2025 Elder Empowerment Month Calendar
URL:https://www.ashlandmhrb.org/event/elder-empowerment-month-calendar/
END:VEVENT
BEGIN:VEVENT
DTSTART;TZID=America/New_York:20250624T160000
DTEND;TZID=America/New_York:20250624T170000
DTSTAMP:20260424T110753
CREATED:20250102T142019Z
LAST-MODIFIED:20250709T144903Z
UID:10000590-1750780800-1750784400@www.ashlandmhrb.org
SUMMARY:Board Meeting
DESCRIPTION:4 pm    To join meeting via Zoom:  https://us02web.zoom.us/j/84083873872 \n  \n  \n 
URL:https://www.ashlandmhrb.org/event/board-meeting-13/2025-06-24/
LOCATION:Mental Health & Recovery Board\, 1605 County Road 1095\, Ashland\, OH\, 44805\, United States
END:VEVENT
END:VCALENDAR