BEGIN:VCALENDAR
VERSION:2.0
PRODID:-//Ashland Mental Health and Recovery Board - ECPv6.6.4.2//NONSGML v1.0//EN
CALSCALE:GREGORIAN
METHOD:PUBLISH
X-ORIGINAL-URL:https://www.ashlandmhrb.org
X-WR-CALDESC:Events for Ashland Mental Health and Recovery Board
REFRESH-INTERVAL;VALUE=DURATION:PT1H
X-Robots-Tag:noindex
X-PUBLISHED-TTL:PT1H
BEGIN:VTIMEZONE
TZID:America/New_York
BEGIN:DAYLIGHT
TZOFFSETFROM:-0500
TZOFFSETTO:-0400
TZNAME:EDT
DTSTART:20250309T070000
END:DAYLIGHT
BEGIN:STANDARD
TZOFFSETFROM:-0400
TZOFFSETTO:-0500
TZNAME:EST
DTSTART:20251102T060000
END:STANDARD
BEGIN:DAYLIGHT
TZOFFSETFROM:-0500
TZOFFSETTO:-0400
TZNAME:EDT
DTSTART:20260308T070000
END:DAYLIGHT
BEGIN:STANDARD
TZOFFSETFROM:-0400
TZOFFSETTO:-0500
TZNAME:EST
DTSTART:20261101T060000
END:STANDARD
END:VTIMEZONE
BEGIN:VEVENT
DTSTART;TZID=America/New_York:20251210T181500
DTEND;TZID=America/New_York:20260408T220000
DTSTAMP:20260423T061138
CREATED:20250709T163016Z
LAST-MODIFIED:20250709T163409Z
UID:10000697-1765390500-1775685600@www.ashlandmhrb.org
SUMMARY:Grievers of Suicide Support Group of Ashland County
DESCRIPTION:Grief Group Flyer 2025 Updated \nA support group for those aged 18 or older who have had someone they love die by suicide.\nContact: Pam Lemaster at Appleseed CMHC 419-281-3716\nVirtual option may be available through Zoom. Check the Ashland Mental Health and Recovery Website Calendar of Events for link information: https://www.ashlandmhrb.org\nRoom subject to change\nMeetings: Second Wednesday of each month\nTime: 6:15pm to 8pm\nPlace: Brethren Care Village\nWellness and Community Center\nThe Greens Bistro\n2000 Center Street\nAshland\, Ohio 44805
URL:https://www.ashlandmhrb.org/event/grievers-of-suicide-support-group-of-ashland-county-2/2025-12-10/
LOCATION:Brethren Care Village Wellness and Community Center- In the Greens Bistro\, 2000 Center Street\, Ashland\, 44805\, United States
END:VEVENT
BEGIN:VEVENT
DTSTART;TZID=America/New_York:20251112T181500
DTEND;TZID=America/New_York:20260311T220000
DTSTAMP:20260423T061138
CREATED:20250709T163016Z
LAST-MODIFIED:20250709T163409Z
UID:10000696-1762971300-1773266400@www.ashlandmhrb.org
SUMMARY:Grievers of Suicide Support Group of Ashland County
DESCRIPTION:Grief Group Flyer 2025 Updated \nA support group for those aged 18 or older who have had someone they love die by suicide.\nContact: Pam Lemaster at Appleseed CMHC 419-281-3716\nVirtual option may be available through Zoom. Check the Ashland Mental Health and Recovery Website Calendar of Events for link information: https://www.ashlandmhrb.org\nRoom subject to change\nMeetings: Second Wednesday of each month\nTime: 6:15pm to 8pm\nPlace: Brethren Care Village\nWellness and Community Center\nThe Greens Bistro\n2000 Center Street\nAshland\, Ohio 44805
URL:https://www.ashlandmhrb.org/event/grievers-of-suicide-support-group-of-ashland-county-2/2025-11-12/
LOCATION:Brethren Care Village Wellness and Community Center- In the Greens Bistro\, 2000 Center Street\, Ashland\, 44805\, United States
END:VEVENT
BEGIN:VEVENT
DTSTART;TZID=America/New_York:20251008T181500
DTEND;TZID=America/New_York:20260204T200000
DTSTAMP:20260423T061138
CREATED:20250709T163016Z
LAST-MODIFIED:20250709T163409Z
UID:10000695-1759947300-1770235200@www.ashlandmhrb.org
SUMMARY:Grievers of Suicide Support Group of Ashland County
DESCRIPTION:Grief Group Flyer 2025 Updated \nA support group for those aged 18 or older who have had someone they love die by suicide.\nContact: Pam Lemaster at Appleseed CMHC 419-281-3716\nVirtual option may be available through Zoom. Check the Ashland Mental Health and Recovery Website Calendar of Events for link information: https://www.ashlandmhrb.org\nRoom subject to change\nMeetings: Second Wednesday of each month\nTime: 6:15pm to 8pm\nPlace: Brethren Care Village\nWellness and Community Center\nThe Greens Bistro\n2000 Center Street\nAshland\, Ohio 44805
URL:https://www.ashlandmhrb.org/event/grievers-of-suicide-support-group-of-ashland-county-2/2025-10-08/
LOCATION:Brethren Care Village Wellness and Community Center- In the Greens Bistro\, 2000 Center Street\, Ashland\, 44805\, United States
END:VEVENT
BEGIN:VEVENT
DTSTART;TZID=America/New_York:20250910T181500
DTEND;TZID=America/New_York:20260107T200000
DTSTAMP:20260423T061138
CREATED:20250709T163016Z
LAST-MODIFIED:20250709T163409Z
UID:10000694-1757528100-1767816000@www.ashlandmhrb.org
SUMMARY:Grievers of Suicide Support Group of Ashland County
DESCRIPTION:Grief Group Flyer 2025 Updated \nA support group for those aged 18 or older who have had someone they love die by suicide.\nContact: Pam Lemaster at Appleseed CMHC 419-281-3716\nVirtual option may be available through Zoom. Check the Ashland Mental Health and Recovery Website Calendar of Events for link information: https://www.ashlandmhrb.org\nRoom subject to change\nMeetings: Second Wednesday of each month\nTime: 6:15pm to 8pm\nPlace: Brethren Care Village\nWellness and Community Center\nThe Greens Bistro\n2000 Center Street\nAshland\, Ohio 44805
URL:https://www.ashlandmhrb.org/event/grievers-of-suicide-support-group-of-ashland-county-2/2025-09-10/
LOCATION:Brethren Care Village Wellness and Community Center- In the Greens Bistro\, 2000 Center Street\, Ashland\, 44805\, United States
END:VEVENT
BEGIN:VEVENT
DTSTART;TZID=America/New_York:20250813T181500
DTEND;TZID=America/New_York:20251210T200000
DTSTAMP:20260423T061138
CREATED:20250709T163016Z
LAST-MODIFIED:20250709T163409Z
UID:10000693-1755108900-1765396800@www.ashlandmhrb.org
SUMMARY:Grievers of Suicide Support Group of Ashland County
DESCRIPTION:Grief Group Flyer 2025 Updated \nA support group for those aged 18 or older who have had someone they love die by suicide.\nContact: Pam Lemaster at Appleseed CMHC 419-281-3716\nVirtual option may be available through Zoom. Check the Ashland Mental Health and Recovery Website Calendar of Events for link information: https://www.ashlandmhrb.org\nRoom subject to change\nMeetings: Second Wednesday of each month\nTime: 6:15pm to 8pm\nPlace: Brethren Care Village\nWellness and Community Center\nThe Greens Bistro\n2000 Center Street\nAshland\, Ohio 44805
URL:https://www.ashlandmhrb.org/event/grievers-of-suicide-support-group-of-ashland-county-2/2025-08-13/2/
LOCATION:Brethren Care Village Wellness and Community Center- In the Greens Bistro\, 2000 Center Street\, Ashland\, 44805\, United States
END:VEVENT
BEGIN:VEVENT
DTSTART;TZID=America/New_York:20250813T080000
DTEND;TZID=America/New_York:20250813T170000
DTSTAMP:20260423T061138
CREATED:20250709T163016Z
LAST-MODIFIED:20250709T163409Z
UID:10000692-1755072000-1755104400@www.ashlandmhrb.org
SUMMARY:Grievers of Suicide Support Group of Ashland County
DESCRIPTION:Grief Group Flyer 2025 Updated \nA support group for those aged 18 or older who have had someone they love die by suicide.\nContact: Pam Lemaster at Appleseed CMHC 419-281-3716\nVirtual option may be available through Zoom. Check the Ashland Mental Health and Recovery Website Calendar of Events for link information: https://www.ashlandmhrb.org\nRoom subject to change\nMeetings: Second Wednesday of each month\nTime: 6:15pm to 8pm\nPlace: Brethren Care Village\nWellness and Community Center\nThe Greens Bistro\n2000 Center Street\nAshland\, Ohio 44805
URL:https://www.ashlandmhrb.org/event/grievers-of-suicide-support-group-of-ashland-county-2/2025-08-13/1/
LOCATION:Brethren Care Village Wellness and Community Center- In the Greens Bistro\, 2000 Center Street\, Ashland\, 44805\, United States
END:VEVENT
BEGIN:VEVENT
DTSTART;TZID=America/New_York:20250409T181500
DTEND;TZID=America/New_York:20250409T200000
DTSTAMP:20260423T061138
CREATED:20250113T170049Z
LAST-MODIFIED:20250113T205724Z
UID:10000648-1744222500-1744228800@www.ashlandmhrb.org
SUMMARY:Grievers of Suicide Support Group of Ashland County
DESCRIPTION:Grief Group Flyer 2025 Updated
URL:https://www.ashlandmhrb.org/event/grievers-of-suicide-support-group-of-ashland-county/2025-04-09/
LOCATION:Brethren Care Village Wellness and Community Center- In the Greens Bistro\, 2000 Center Street\, Ashland\, 44805\, United States
END:VEVENT
BEGIN:VEVENT
DTSTART;TZID=America/New_York:20250312T181500
DTEND;TZID=America/New_York:20250312T200000
DTSTAMP:20260423T061138
CREATED:20250113T170049Z
LAST-MODIFIED:20250113T205724Z
UID:10000647-1741803300-1741809600@www.ashlandmhrb.org
SUMMARY:Grievers of Suicide Support Group of Ashland County
DESCRIPTION:Grief Group Flyer 2025 Updated
URL:https://www.ashlandmhrb.org/event/grievers-of-suicide-support-group-of-ashland-county/2025-03-12/
LOCATION:Brethren Care Village Wellness and Community Center- In the Greens Bistro\, 2000 Center Street\, Ashland\, 44805\, United States
END:VEVENT
BEGIN:VEVENT
DTSTART;TZID=America/New_York:20250212T181500
DTEND;TZID=America/New_York:20250212T200000
DTSTAMP:20260423T061138
CREATED:20250113T170049Z
LAST-MODIFIED:20250113T205724Z
UID:10000646-1739384100-1739390400@www.ashlandmhrb.org
SUMMARY:Grievers of Suicide Support Group of Ashland County
DESCRIPTION:Grief Group Flyer 2025 Updated
URL:https://www.ashlandmhrb.org/event/grievers-of-suicide-support-group-of-ashland-county/2025-02-12/
LOCATION:Brethren Care Village Wellness and Community Center- In the Greens Bistro\, 2000 Center Street\, Ashland\, 44805\, United States
END:VEVENT
END:VCALENDAR